BEGIN:VCALENDAR
VERSION:2.0
PRODID:-//Osons La Différence - ECPv6.15.20//NONSGML v1.0//EN
CALSCALE:GREGORIAN
METHOD:PUBLISH
X-WR-CALNAME:Osons La Différence
X-ORIGINAL-URL:https://www.osonsladifference.org
X-WR-CALDESC:Évènements pour Osons La Différence
REFRESH-INTERVAL;VALUE=DURATION:PT1H
X-Robots-Tag:noindex
X-PUBLISHED-TTL:PT1H
BEGIN:VTIMEZONE
TZID:Europe/Paris
BEGIN:DAYLIGHT
TZOFFSETFROM:+0100
TZOFFSETTO:+0200
TZNAME:CEST
DTSTART:20250330T010000
END:DAYLIGHT
BEGIN:STANDARD
TZOFFSETFROM:+0200
TZOFFSETTO:+0100
TZNAME:CET
DTSTART:20251026T010000
END:STANDARD
BEGIN:DAYLIGHT
TZOFFSETFROM:+0100
TZOFFSETTO:+0200
TZNAME:CEST
DTSTART:20260329T010000
END:DAYLIGHT
BEGIN:STANDARD
TZOFFSETFROM:+0200
TZOFFSETTO:+0100
TZNAME:CET
DTSTART:20261025T010000
END:STANDARD
BEGIN:DAYLIGHT
TZOFFSETFROM:+0100
TZOFFSETTO:+0200
TZNAME:CEST
DTSTART:20270328T010000
END:DAYLIGHT
BEGIN:STANDARD
TZOFFSETFROM:+0200
TZOFFSETTO:+0100
TZNAME:CET
DTSTART:20271031T010000
END:STANDARD
END:VTIMEZONE
BEGIN:VEVENT
DTSTART;TZID=Europe/Paris:20260329T070000
DTEND;TZID=Europe/Paris:20260329T170000
DTSTAMP:20260425T054507
CREATED:20260126T164731Z
LAST-MODIFIED:20260315T145420Z
UID:27033-1774767600-1774803600@www.osonsladifference.org
SUMMARY:ATTENTION ANNULATION de ce projet Rando dans le massif de l'Esterel (06)
DESCRIPTION:Les pluies diluviennes de ces derniers jours ont créé des dégradations massives sur le chemin\, nous sommes dans l’obligation d’annuler cette sortie. … Un nouveau projet est défini afin de remplacer celui-ci devenu impossible. Voir juste en dessous ! \n\n\n\n \n\n\n\nDeux itinéraires et deux niveaux de randonnée joëlette au choix étaient proposés : \n\n\n\n–  un itinéraire facile et un autre plus sportif.  \n\n\n\n– Nous nous retrouverons le midi pour un pique-nique commun. \n\n\n\n– Le retour vers la gare se fera ensemble. retour en train à 17h08.  \n\n\n\n \n\n\n\nUne nouvelle sortie dans l’Esterel que nous programmerons en automne ou hiver prochain\, suivra un itinéraire qui permettra à des fauteuils simples de venir s’associer à la sortie. \n\n\n\nA bientôt.
URL:https://www.osonsladifference.org/event/massif-de-lesterel-06/
CATEGORIES:Alpes-Maritimes,Sortie Joëlette
END:VEVENT
BEGIN:VEVENT
DTSTART;TZID=Europe/Paris:20260329T100000
DTEND;TZID=Europe/Paris:20260329T170000
DTSTAMP:20260425T054507
CREATED:20260315T144636Z
LAST-MODIFIED:20260327T171314Z
UID:27501-1774778400-1774803600@www.osonsladifference.org
SUMMARY:DIMANCHE 29 MARS SORTIE LAC DE SAINT CASSIEN
DESCRIPTION:La météo nous joue des tours. Vous avez bien noté que la rando programmée antérieurement est modifiée. \n\n\n\n \n\n\n\nEn remplacement\, nous vous proposons une balade facile autour du Lac de St Cassien \n\n\n\n. \n\n\n\nCette sortie est praticable en fauteuil électrique\, hippocampe et bien-sûr en joëlette : \n\n\n\n– Le rendez-vous 10h00 et le départ 10h15 se feront au parking des Pistes – Grandes Randonnées GR 49 – Route du Lac\, 83600 Les Adrets-de-l’Estérel  \n\n\n\nSi un équipage joëlette\, volontaire\, souhaite réaliser un parcours un peu plus sportif\, il y a une possibilité de gravir un dénivelé de 300m en empruntant un superbe chemin bucolique à souhait. \n\n\n\nLes deux groupes auront la possibilité de se retrouver pour le picnic du midi\, et finir la rando vers le parking  ensemble. \n\n\n\nBien vouloir vous pré-inscrire le plus rapidement afin d’organiser au mieux cette sortie ! \n\n\n\nVoici le lien de pré-inscription : https://forms.gle/BigbXGqhdtkZiebn8 \n\n\n\nBien se munir\, comme à l’accoutumé :  \n\n\n\n– de bonnes chaussures\,  \n\n\n\n– de vêtements  adaptés à la météo\,  \n\n\n\n– coupe vent\, vêtement  de pluie\, chapeau\,  \n\n\n\n– son Picnic sorti du sac\, \n\n\n\n– sa boisson (1 litre d’eau par personne minimum). \n\n\n\nA très vite de vous revoir !
URL:https://www.osonsladifference.org/event/dimanche-29-mars-sortie-lac-de-saint-cassien/
CATEGORIES:Alpes-Maritimes,Sortie Joëlette
ATTACH;FMTTYPE=image/jpeg:https://www.osonsladifference.org/wp-content/uploads/2026/03/IMG-20260314-WA0023.jpg
END:VEVENT
END:VCALENDAR