BEGIN:VCALENDAR
VERSION:2.0
PRODID:-//Osons La Différence - ECPv6.15.20//NONSGML v1.0//EN
CALSCALE:GREGORIAN
METHOD:PUBLISH
X-ORIGINAL-URL:https://www.osonsladifference.org
X-WR-CALDESC:Évènements pour Osons La Différence
REFRESH-INTERVAL;VALUE=DURATION:PT1H
X-Robots-Tag:noindex
X-PUBLISHED-TTL:PT1H
BEGIN:VTIMEZONE
TZID:Europe/Paris
BEGIN:DAYLIGHT
TZOFFSETFROM:+0100
TZOFFSETTO:+0200
TZNAME:CEST
DTSTART:20250330T010000
END:DAYLIGHT
BEGIN:STANDARD
TZOFFSETFROM:+0200
TZOFFSETTO:+0100
TZNAME:CET
DTSTART:20251026T010000
END:STANDARD
BEGIN:DAYLIGHT
TZOFFSETFROM:+0100
TZOFFSETTO:+0200
TZNAME:CEST
DTSTART:20260329T010000
END:DAYLIGHT
BEGIN:STANDARD
TZOFFSETFROM:+0200
TZOFFSETTO:+0100
TZNAME:CET
DTSTART:20261025T010000
END:STANDARD
BEGIN:DAYLIGHT
TZOFFSETFROM:+0100
TZOFFSETTO:+0200
TZNAME:CEST
DTSTART:20270328T010000
END:DAYLIGHT
BEGIN:STANDARD
TZOFFSETFROM:+0200
TZOFFSETTO:+0100
TZNAME:CET
DTSTART:20271031T010000
END:STANDARD
END:VTIMEZONE
BEGIN:VEVENT
DTSTART;TZID=Europe/Paris:20260522T150000
DTEND;TZID=Europe/Paris:20260524T170000
DTSTAMP:20260425T054612
CREATED:20260327T172343Z
LAST-MODIFIED:20260327T172348Z
UID:27527-1779462000-1779642000@www.osonsladifference.org
SUMMARY:WEEK-END A LA CANTONNIERE
DESCRIPTION:Osons La Différence propose un petit Week-end au Refuge de la Cantonnière \n\n\n\ndu Vendredi 22 mai au Dimanche 24 mai 2026 \n\n\n\nRefuge de la Cantonnière \n\n\n\nL’histoire du refuge est intimement liée à la route des Grandes Alpes reliant le Lac Léman à la Mer Méditerranée. Elle fut réalisée au début du XXème siècle par le Touring Club de France\, avec les moyens très rudimentaires de l’époque\, par des travailleurs italiens pour lesquels fut construite l’imposante maison Cantonnière.Accessible dès l’été 1913\, aux rares automobiles de l’époque\, la route devait être inaugurée par le président Poincaré\, en août 1914. Mais la déclaration de guerre priva les Entraunois de cette visite.Entièrement restauré par le Parc national du Mercantour\, ce bâtiment sert aujourd’hui de refuge. \n\n\n\nNous y sommes attendus dès le vendredi soir 17h00 sur place et nous rentrerons le dimanche en fin d’après-midi. \n\n\n\nLe samedi nous monterons au col de la Cayole si la fonte des neiges nous le permet. Si non une balade autour du lac sera bien agréable. Nous irons à la Source du Var : C’est sur le plateau d’Estenc à 1790m d’altitude que jaillit la source du Var. Bien que cette source ne soit ni la plus importante du versant\, ni la plus élevée\, c’est la seule qui\, dit-on\, n’a jamais tari.Le Var est un fleuve côtier dont le parcours de 114km s’achève dans la mer Méditerranée entre Nice et Saint-Laurent-du-Var. \n\n\n\nLe dimanche une belle randonnée en direction d’Estenc nous permettra de découvrir le Haut Var\, ses gorges\, ses belles cascades et du bonheur à partager. Et puis si le chemin se révèle non praticable….\, la montagne est belle en bas comme en haut ! Et il y a tant de choses à faire. \n\n\n\nNous préciserons le programme dans le courant mai en fonction de la fonte de la neige qui est massivement cette année. \n\n\n\nA tantôt\, si le cœur vous en dit !
URL:https://www.osonsladifference.org/event/week-end-a-la-cantonniere/
CATEGORIES:Alpes-Maritimes,Séjour,Sortie Joëlette
END:VEVENT
END:VCALENDAR