BEGIN:VCALENDAR
VERSION:2.0
PRODID:-//Osons La Différence - ECPv6.15.20//NONSGML v1.0//EN
CALSCALE:GREGORIAN
METHOD:PUBLISH
X-WR-CALNAME:Osons La Différence
X-ORIGINAL-URL:https://www.osonsladifference.org
X-WR-CALDESC:Évènements pour Osons La Différence
REFRESH-INTERVAL;VALUE=DURATION:PT1H
X-Robots-Tag:noindex
X-PUBLISHED-TTL:PT1H
BEGIN:VTIMEZONE
TZID:Europe/Paris
BEGIN:DAYLIGHT
TZOFFSETFROM:+0100
TZOFFSETTO:+0200
TZNAME:CEST
DTSTART:20200329T010000
END:DAYLIGHT
BEGIN:STANDARD
TZOFFSETFROM:+0200
TZOFFSETTO:+0100
TZNAME:CET
DTSTART:20201025T010000
END:STANDARD
BEGIN:DAYLIGHT
TZOFFSETFROM:+0100
TZOFFSETTO:+0200
TZNAME:CEST
DTSTART:20210328T010000
END:DAYLIGHT
BEGIN:STANDARD
TZOFFSETFROM:+0200
TZOFFSETTO:+0100
TZNAME:CET
DTSTART:20211031T010000
END:STANDARD
BEGIN:DAYLIGHT
TZOFFSETFROM:+0100
TZOFFSETTO:+0200
TZNAME:CEST
DTSTART:20220327T010000
END:DAYLIGHT
BEGIN:STANDARD
TZOFFSETFROM:+0200
TZOFFSETTO:+0100
TZNAME:CET
DTSTART:20221030T010000
END:STANDARD
END:VTIMEZONE
BEGIN:VEVENT
DTSTART;VALUE=DATE:20211017
DTEND;VALUE=DATE:20211018
DTSTAMP:20260420T230610
CREATED:20211011T185440Z
LAST-MODIFIED:20211011T190023Z
UID:7373-1634428800-1634515199@www.osonsladifference.org
SUMMARY:Randonnée autour du Falkenstein à Dambach-la-ville
DESCRIPTION:La randonnée joëlette dimanche 17 octobre aura lieu du côté du rocher du Falkenstein à Dambach la Ville\, près de Sélestat. \nNous avons prévu deux boucles\, une pour le matin et une autre pour l’après-midi\, avec pause pique-nique proche du point de RDV. \nSi vous êtes intéressés\, veuillez nous contacter par mail à asso67
URL:https://www.osonsladifference.org/event/randonnee-autour-du-falkenstein-a-dambach-la-ville/
LOCATION:Dambach-la-ville\, Dambach-la-ville\, France
CATEGORIES:Alsace,Sortie Joëlette
END:VEVENT
END:VCALENDAR